BEGIN:VCALENDAR
VERSION:2.0
PRODID:-//Saint Philip Catholic Church - ECPv6.15.20//NONSGML v1.0//EN
CALSCALE:GREGORIAN
METHOD:PUBLISH
X-WR-CALNAME:Saint Philip Catholic Church
X-ORIGINAL-URL:https://stphilipfranklin.com
X-WR-CALDESC:Events for Saint Philip Catholic Church
REFRESH-INTERVAL;VALUE=DURATION:PT1H
X-Robots-Tag:noindex
X-PUBLISHED-TTL:PT1H
BEGIN:VTIMEZONE
TZID:America/Chicago
BEGIN:DAYLIGHT
TZOFFSETFROM:-0600
TZOFFSETTO:-0500
TZNAME:CDT
DTSTART:20250309T080000
END:DAYLIGHT
BEGIN:STANDARD
TZOFFSETFROM:-0500
TZOFFSETTO:-0600
TZNAME:CST
DTSTART:20251102T070000
END:STANDARD
BEGIN:DAYLIGHT
TZOFFSETFROM:-0600
TZOFFSETTO:-0500
TZNAME:CDT
DTSTART:20260308T080000
END:DAYLIGHT
BEGIN:STANDARD
TZOFFSETFROM:-0500
TZOFFSETTO:-0600
TZNAME:CST
DTSTART:20261101T070000
END:STANDARD
BEGIN:DAYLIGHT
TZOFFSETFROM:-0600
TZOFFSETTO:-0500
TZNAME:CDT
DTSTART:20270314T080000
END:DAYLIGHT
BEGIN:STANDARD
TZOFFSETFROM:-0500
TZOFFSETTO:-0600
TZNAME:CST
DTSTART:20271107T070000
END:STANDARD
END:VTIMEZONE
BEGIN:VEVENT
DTSTART;TZID=America/Chicago:20260420T070000
DTEND;TZID=America/Chicago:20260420T073000
DTSTAMP:20260420T030339
CREATED:20260303T013943Z
LAST-MODIFIED:20260303T013943Z
UID:182704-1776668400-1776670200@stphilipfranklin.com
SUMMARY:7am Daily Mass
DESCRIPTION:Group: Daily Masses\nCampus: Saint Philip – Franklin \nJoin us for Daily Mass! \n7:00am\, Monday-Friday \n9:00am\, Monday-Saturday \n7:00pm\, Tuesday
URL:https://stphilipfranklin.com/event/7am-daily-mass-33/
LOCATION:Original Church (Saint Philip – Franklin)\, 113 2nd Ave S\, Franklin\, TN\, United States
END:VEVENT
BEGIN:VEVENT
DTSTART;TZID=America/Chicago:20260420T090000
DTEND;TZID=America/Chicago:20260420T093000
DTSTAMP:20260420T030339
CREATED:20260303T013943Z
LAST-MODIFIED:20260303T013943Z
UID:182705-1776675600-1776677400@stphilipfranklin.com
SUMMARY:9am Daily Mass
DESCRIPTION:Group: Daily Masses\nCampus: Saint Philip – Franklin \nJoin us for Daily Mass! \n7:00am\, Monday-Friday \n9:00am\, Monday-Saturday \n7:00pm\, Tuesday
URL:https://stphilipfranklin.com/event/9am-daily-mass-39/
LOCATION:Main Church (Saint Philip – Franklin)\, 113 2nd Ave S\, Franklin\, TN\, United States
END:VEVENT
BEGIN:VEVENT
DTSTART;TZID=America/Chicago:20260420T093000
DTEND;TZID=America/Chicago:20260420T101500
DTSTAMP:20260420T030339
CREATED:20260303T013944Z
LAST-MODIFIED:20260303T013944Z
UID:182709-1776677400-1776680100@stphilipfranklin.com
SUMMARY:Rosary
DESCRIPTION:Group: Rosary\nCampus: Saint Philip – Franklin
URL:https://stphilipfranklin.com/event/rosary-39/
LOCATION:Main Church (Saint Philip – Franklin)\, 113 2nd Ave S\, Franklin\, TN\, United States
END:VEVENT
BEGIN:VEVENT
DTSTART;TZID=America/Chicago:20260420T093000
DTEND;TZID=America/Chicago:20260420T181500
DTSTAMP:20260420T030339
CREATED:20260303T013944Z
LAST-MODIFIED:20260303T013944Z
UID:182708-1776677400-1776708900@stphilipfranklin.com
SUMMARY:Adoration with Benediction at 6pm
DESCRIPTION:Group: Parish Activities\nCampus: Saint Philip – Franklin
URL:https://stphilipfranklin.com/event/adoration-with-benediction-at-6pm-7/
LOCATION:Original Church (Saint Philip – Franklin)\, 113 2nd Ave S\, Franklin\, TN\, United States
END:VEVENT
BEGIN:VEVENT
DTSTART;TZID=America/Chicago:20260420T094500
DTEND;TZID=America/Chicago:20260420T110000
DTSTAMP:20260420T030339
CREATED:20260303T013957Z
LAST-MODIFIED:20260303T013957Z
UID:182710-1776678300-1776682800@stphilipfranklin.com
SUMMARY:Women's Faithsharing Weekly Meetings
DESCRIPTION:Group: Parish Activities\nCampus: Saint Philip – Franklin
URL:https://stphilipfranklin.com/event/womens-faithsharing-weekly-meetings-6/
LOCATION:Activity Center (Saint Philip – Franklin)\, 113 2nd Ave S\, Franklin\, TN\, United States
END:VEVENT
BEGIN:VEVENT
DTSTART;TZID=America/Chicago:20260420T100000
DTEND;TZID=America/Chicago:20260420T110000
DTSTAMP:20260420T030339
CREATED:20260303T013944Z
LAST-MODIFIED:20260303T013944Z
UID:182706-1776679200-1776682800@stphilipfranklin.com
SUMMARY:Stretch and Balance Class
DESCRIPTION:Group: Parish Activities\nCampus: Saint Philip – Franklin
URL:https://stphilipfranklin.com/event/stretch-and-balance-class-12/
LOCATION:Community Center (Saint Philip – Franklin)\, 113 2nd Ave S\, Franklin\, TN\, United States
END:VEVENT
BEGIN:VEVENT
DTSTART;TZID=America/Chicago:20260420T173000
DTEND;TZID=America/Chicago:20260420T193000
DTSTAMP:20260420T030339
CREATED:20260303T013957Z
LAST-MODIFIED:20260303T013957Z
UID:182711-1776706200-1776713400@stphilipfranklin.com
SUMMARY:Grief Share
DESCRIPTION:Group: Parish Activities\nCampus: Saint Philip – Franklin \nHelping those through the grief process of losing a loved one.
URL:https://stphilipfranklin.com/event/grief-share-7/
LOCATION:Meeting Room 105 / Groom’s Rm (Saint Philip – Franklin)\, 113 2nd Ave S\, Franklin\, TN\, United States
END:VEVENT
BEGIN:VEVENT
DTSTART;TZID=America/Chicago:20260420T180000
DTEND;TZID=America/Chicago:20260420T210000
DTSTAMP:20260420T030339
CREATED:20260303T013944Z
LAST-MODIFIED:20260303T013944Z
UID:182707-1776708000-1776718800@stphilipfranklin.com
SUMMARY:UCAT
DESCRIPTION:Group: Parish Activities\nCampus: Saint Philip – Franklin
URL:https://stphilipfranklin.com/event/ucat-7/
LOCATION:RE\, 101 2nd Ave N\, Franklin\, TN\, United States
END:VEVENT
BEGIN:VEVENT
DTSTART;TZID=America/Chicago:20260420T190000
DTEND;TZID=America/Chicago:20260420T210000
DTSTAMP:20260420T030339
CREATED:20260303T013958Z
LAST-MODIFIED:20260303T013958Z
UID:182712-1776711600-1776718800@stphilipfranklin.com
SUMMARY:Charismatic Renewal - Weekly Meetings
DESCRIPTION:Group: Parish Activities\nCampus: Saint Philip – Franklin
URL:https://stphilipfranklin.com/event/charismatic-renewal-weekly-meetings-7/
LOCATION:Activity Center (Saint Philip – Franklin)\, 113 2nd Ave S\, Franklin\, TN\, United States
END:VEVENT
END:VCALENDAR