BEGIN:VCALENDAR
VERSION:2.0
PRODID:-//Saint Philip Catholic Church - ECPv6.15.20//NONSGML v1.0//EN
CALSCALE:GREGORIAN
METHOD:PUBLISH
X-WR-CALNAME:Saint Philip Catholic Church
X-ORIGINAL-URL:https://stphilipfranklin.com
X-WR-CALDESC:Events for Saint Philip Catholic Church
REFRESH-INTERVAL;VALUE=DURATION:PT1H
X-Robots-Tag:noindex
X-PUBLISHED-TTL:PT1H
BEGIN:VTIMEZONE
TZID:America/Chicago
BEGIN:DAYLIGHT
TZOFFSETFROM:-0600
TZOFFSETTO:-0500
TZNAME:CDT
DTSTART:20250309T080000
END:DAYLIGHT
BEGIN:STANDARD
TZOFFSETFROM:-0500
TZOFFSETTO:-0600
TZNAME:CST
DTSTART:20251102T070000
END:STANDARD
BEGIN:DAYLIGHT
TZOFFSETFROM:-0600
TZOFFSETTO:-0500
TZNAME:CDT
DTSTART:20260308T080000
END:DAYLIGHT
BEGIN:STANDARD
TZOFFSETFROM:-0500
TZOFFSETTO:-0600
TZNAME:CST
DTSTART:20261101T070000
END:STANDARD
BEGIN:DAYLIGHT
TZOFFSETFROM:-0600
TZOFFSETTO:-0500
TZNAME:CDT
DTSTART:20270314T080000
END:DAYLIGHT
BEGIN:STANDARD
TZOFFSETFROM:-0500
TZOFFSETTO:-0600
TZNAME:CST
DTSTART:20271107T070000
END:STANDARD
END:VTIMEZONE
BEGIN:VEVENT
DTSTART;TZID=America/Chicago:20260421T053000
DTEND;TZID=America/Chicago:20260421T063000
DTSTAMP:20260421T052843
CREATED:20260303T013958Z
LAST-MODIFIED:20260303T013958Z
UID:182713-1776749400-1776753000@stphilipfranklin.com
SUMMARY:F3 WWP (Word\, Worship and Prayer)
DESCRIPTION:Group: Parish Activities\nCampus: Saint Philip – Franklin
URL:https://stphilipfranklin.com/event/f3-wwp-word-worship-and-prayer-8/
LOCATION:Activity Center (Saint Philip – Franklin)\, 113 2nd Ave S\, Franklin\, TN\, United States
END:VEVENT
BEGIN:VEVENT
DTSTART;TZID=America/Chicago:20260421T070000
DTEND;TZID=America/Chicago:20260421T073000
DTSTAMP:20260421T052843
CREATED:20260303T013958Z
LAST-MODIFIED:20260303T013958Z
UID:182715-1776754800-1776756600@stphilipfranklin.com
SUMMARY:7am Daily Mass
DESCRIPTION:Group: Daily Masses\nCampus: Saint Philip – Franklin \nJoin us for Daily Mass! \n7:00am\, Monday-Friday \n9:00am\, Monday-Saturday \n7:00pm\, Tuesday
URL:https://stphilipfranklin.com/event/7am-daily-mass-34/
LOCATION:Original Church (Saint Philip – Franklin)\, 113 2nd Ave S\, Franklin\, TN\, United States
END:VEVENT
BEGIN:VEVENT
DTSTART;TZID=America/Chicago:20260421T073000
DTEND;TZID=America/Chicago:20260421T083000
DTSTAMP:20260421T052843
CREATED:20260303T013958Z
LAST-MODIFIED:20260303T013958Z
UID:182714-1776756600-1776760200@stphilipfranklin.com
SUMMARY:Men's Bible Study
DESCRIPTION:Group: Parish Activities\nCampus: Saint Philip – Franklin \nCoffee Time at 7:30 am and Class Study Time at 8:00am.
URL:https://stphilipfranklin.com/event/mens-bible-study-8/
LOCATION:Meeting Room 105 / Groom’s Rm (Saint Philip – Franklin)\, 113 2nd Ave S\, Franklin\, TN\, United States
END:VEVENT
BEGIN:VEVENT
DTSTART;TZID=America/Chicago:20260421T090000
DTEND;TZID=America/Chicago:20260421T093000
DTSTAMP:20260421T052843
CREATED:20260303T013958Z
LAST-MODIFIED:20260303T013958Z
UID:182717-1776762000-1776763800@stphilipfranklin.com
SUMMARY:9am Daily Mass
DESCRIPTION:Group: Daily Masses\nCampus: Saint Philip – Franklin \nJoin us for Daily Mass! \n7:00am\, Monday-Friday \n9:00am\, Monday-Saturday \n7:00pm\, Tuesday
URL:https://stphilipfranklin.com/event/9am-daily-mass-40/
LOCATION:Main Church (Saint Philip – Franklin)\, 113 2nd Ave S\, Franklin\, TN\, United States
END:VEVENT
BEGIN:VEVENT
DTSTART;TZID=America/Chicago:20260421T093000
DTEND;TZID=America/Chicago:20260421T101500
DTSTAMP:20260421T052844
CREATED:20260303T013958Z
LAST-MODIFIED:20260303T013958Z
UID:182716-1776763800-1776766500@stphilipfranklin.com
SUMMARY:Rosary
DESCRIPTION:Group: Rosary\nCampus: Saint Philip – Franklin
URL:https://stphilipfranklin.com/event/rosary-40/
LOCATION:Main Church (Saint Philip – Franklin)\, 113 2nd Ave S\, Franklin\, TN\, United States
END:VEVENT
BEGIN:VEVENT
DTSTART;TZID=America/Chicago:20260421T100000
DTEND;TZID=America/Chicago:20260421T113000
DTSTAMP:20260421T052844
CREATED:20260303T013958Z
LAST-MODIFIED:20260303T013958Z
UID:182718-1776765600-1776771000@stphilipfranklin.com
SUMMARY:Motherhood Ministry
DESCRIPTION:Group: Parish Activities\nCampus: Saint Philip – Franklin
URL:https://stphilipfranklin.com/event/motherhood-ministry-5/
LOCATION:Activity Center (Saint Philip – Franklin)\, 113 2nd Ave S\, Franklin\, TN\, United States
END:VEVENT
BEGIN:VEVENT
DTSTART;TZID=America/Chicago:20260421T170000
DTEND;TZID=America/Chicago:20260421T190000
DTSTAMP:20260421T052844
CREATED:20260303T014013Z
LAST-MODIFIED:20260303T014013Z
UID:182724-1776790800-1776798000@stphilipfranklin.com
SUMMARY:Adoration
DESCRIPTION:Group: Adoration\nCampus: Saint Philip – Franklin
URL:https://stphilipfranklin.com/event/adoration-8/
LOCATION:Main Church (Saint Philip – Franklin)\, 113 2nd Ave S\, Franklin\, TN\, United States
END:VEVENT
BEGIN:VEVENT
DTSTART;TZID=America/Chicago:20260421T173000
DTEND;TZID=America/Chicago:20260421T184500
DTSTAMP:20260421T052844
CREATED:20260303T013959Z
LAST-MODIFIED:20260303T013959Z
UID:182719-1776792600-1776797100@stphilipfranklin.com
SUMMARY:Confessions
DESCRIPTION:Group: Parish Activities\nCampus: Saint Philip – Franklin \nMain Church
URL:https://stphilipfranklin.com/event/confessions-14/
LOCATION:TN
END:VEVENT
BEGIN:VEVENT
DTSTART;TZID=America/Chicago:20260421T183000
DTEND;TZID=America/Chicago:20260421T200000
DTSTAMP:20260421T052844
CREATED:20260303T014012Z
LAST-MODIFIED:20260303T014012Z
UID:182720-1776796200-1776801600@stphilipfranklin.com
SUMMARY:Motherhood Ministry Zoom ROOTED Study 2025/2026
DESCRIPTION:Group: Parish Activities\nCampus: Saint Philip – Franklin \nSt. Philip Motherhood Ministry Bible Study 25-26 ROOTED: Blessed Conversations by Blessed is She
URL:https://stphilipfranklin.com/event/motherhood-ministry-zoom-rooted-study-2025-2026-8/
LOCATION:Zoom\, 101 2nd Ave S\, Franklin\, TN\, United States
END:VEVENT
BEGIN:VEVENT
DTSTART;TZID=America/Chicago:20260421T183000
DTEND;TZID=America/Chicago:20260421T200000
DTSTAMP:20260421T052844
CREATED:20260303T014013Z
LAST-MODIFIED:20260303T014013Z
UID:182723-1776796200-1776801600@stphilipfranklin.com
SUMMARY:Handbell Choir Practice
DESCRIPTION:Group: Parish Activities\nCampus: Saint Philip – Franklin
URL:https://stphilipfranklin.com/event/handbell-choir-practice-8/
LOCATION:Music\, 101 2nd Ave S\, Franklin\, TN\, United States
END:VEVENT
BEGIN:VEVENT
DTSTART;TZID=America/Chicago:20260421T183000
DTEND;TZID=America/Chicago:20260421T203000
DTSTAMP:20260421T052844
CREATED:20260303T014013Z
LAST-MODIFIED:20260303T014013Z
UID:182722-1776796200-1776803400@stphilipfranklin.com
SUMMARY:Fraternus
DESCRIPTION:Group: Parish Activities\nCampus: Saint Philip – Franklin \nFraternus Frat Nights are weekly gatherings where boys and men come together for brotherhood\, recreation\, prayer\, and formation in virtue. Each night includes games\, a short talk\, small-group mentoring\, and a concrete challenge to live out the virtue discussed. Rooted in Catholic tradition\, Frat Nights are designed to form boys into virtuous men through intentional relationships and spiritual growth. 
URL:https://stphilipfranklin.com/event/fraternus-7/
LOCATION:Community Center (Saint Philip – Franklin)\, 113 2nd Ave S\, Franklin\, TN\, United States
END:VEVENT
BEGIN:VEVENT
DTSTART;TZID=America/Chicago:20260421T190000
DTEND;TZID=America/Chicago:20260421T200000
DTSTAMP:20260421T052844
CREATED:20260303T014013Z
LAST-MODIFIED:20260303T014013Z
UID:182721-1776798000-1776801600@stphilipfranklin.com
SUMMARY:Tuesday Evening Mass
DESCRIPTION:Group: Daily Masses\nCampus: Saint Philip – Franklin \nJoin us for Daily Mass! \n7:00am\, Monday-Friday \n9:00am\, Monday-Saturday \n7:00pm\, Tuesday
URL:https://stphilipfranklin.com/event/tuesday-evening-mass-7/
LOCATION:Main Church (Saint Philip – Franklin)\, 113 2nd Ave S\, Franklin\, TN\, United States
END:VEVENT
END:VCALENDAR