BEGIN:VCALENDAR
VERSION:2.0
PRODID:-//Saint Philip Catholic Church - ECPv6.15.20//NONSGML v1.0//EN
CALSCALE:GREGORIAN
METHOD:PUBLISH
X-WR-CALNAME:Saint Philip Catholic Church
X-ORIGINAL-URL:https://stphilipfranklin.com
X-WR-CALDESC:Events for Saint Philip Catholic Church
REFRESH-INTERVAL;VALUE=DURATION:PT1H
X-Robots-Tag:noindex
X-PUBLISHED-TTL:PT1H
BEGIN:VTIMEZONE
TZID:America/Chicago
BEGIN:DAYLIGHT
TZOFFSETFROM:-0600
TZOFFSETTO:-0500
TZNAME:CDT
DTSTART:20250309T080000
END:DAYLIGHT
BEGIN:STANDARD
TZOFFSETFROM:-0500
TZOFFSETTO:-0600
TZNAME:CST
DTSTART:20251102T070000
END:STANDARD
BEGIN:DAYLIGHT
TZOFFSETFROM:-0600
TZOFFSETTO:-0500
TZNAME:CDT
DTSTART:20260308T080000
END:DAYLIGHT
BEGIN:STANDARD
TZOFFSETFROM:-0500
TZOFFSETTO:-0600
TZNAME:CST
DTSTART:20261101T070000
END:STANDARD
BEGIN:DAYLIGHT
TZOFFSETFROM:-0600
TZOFFSETTO:-0500
TZNAME:CDT
DTSTART:20270314T080000
END:DAYLIGHT
BEGIN:STANDARD
TZOFFSETFROM:-0500
TZOFFSETTO:-0600
TZNAME:CST
DTSTART:20271107T070000
END:STANDARD
END:VTIMEZONE
BEGIN:VEVENT
DTSTART;TZID=America/Chicago:20260423T070000
DTEND;TZID=America/Chicago:20260423T073000
DTSTAMP:20260423T054232
CREATED:20260303T014027Z
LAST-MODIFIED:20260303T014027Z
UID:182732-1776927600-1776929400@stphilipfranklin.com
SUMMARY:7am Daily Mass
DESCRIPTION:Group: Daily Masses\nCampus: Saint Philip – Franklin \nJoin us for Daily Mass! \n7:00am\, Monday-Friday \n9:00am\, Monday-Saturday \n7:00pm\, Tuesday
URL:https://stphilipfranklin.com/event/7am-daily-mass-36/
LOCATION:Original Church (Saint Philip – Franklin)\, 113 2nd Ave S\, Franklin\, TN\, United States
END:VEVENT
BEGIN:VEVENT
DTSTART;TZID=America/Chicago:20260423T090000
DTEND;TZID=America/Chicago:20260423T093000
DTSTAMP:20260423T054232
CREATED:20260303T014028Z
LAST-MODIFIED:20260303T014028Z
UID:182733-1776934800-1776936600@stphilipfranklin.com
SUMMARY:9am Daily Mass
DESCRIPTION:Group: Daily Masses\nCampus: Saint Philip – Franklin \nJoin us for Daily Mass! \n7:00am\, Monday-Friday \n9:00am\, Monday-Saturday \n7:00pm\, Tuesday
URL:https://stphilipfranklin.com/event/9am-daily-mass-42/
LOCATION:Main Church (Saint Philip – Franklin)\, 113 2nd Ave S\, Franklin\, TN\, United States
END:VEVENT
BEGIN:VEVENT
DTSTART;TZID=America/Chicago:20260423T093000
DTEND;TZID=America/Chicago:20260423T101500
DTSTAMP:20260423T054232
CREATED:20260303T014028Z
LAST-MODIFIED:20260303T014028Z
UID:182735-1776936600-1776939300@stphilipfranklin.com
SUMMARY:Rosary
DESCRIPTION:Group: Rosary\nCampus: Saint Philip – Franklin
URL:https://stphilipfranklin.com/event/rosary-42/
LOCATION:Main Church (Saint Philip – Franklin)\, 113 2nd Ave S\, Franklin\, TN\, United States
END:VEVENT
BEGIN:VEVENT
DTSTART;TZID=America/Chicago:20260423T100000
DTEND;TZID=America/Chicago:20260423T110000
DTSTAMP:20260423T054232
CREATED:20260303T014028Z
LAST-MODIFIED:20260303T014028Z
UID:182734-1776938400-1776942000@stphilipfranklin.com
SUMMARY:Stretch and Balance Class
DESCRIPTION:Group: Parish Activities\nCampus: Saint Philip – Franklin
URL:https://stphilipfranklin.com/event/stretch-and-balance-class-13/
LOCATION:Community Center (Saint Philip – Franklin)\, 113 2nd Ave S\, Franklin\, TN\, United States
END:VEVENT
BEGIN:VEVENT
DTSTART;TZID=America/Chicago:20260423T180000
DTEND;TZID=America/Chicago:20260423T190000
DTSTAMP:20260423T054232
CREATED:20260303T014028Z
LAST-MODIFIED:20260303T014028Z
UID:182736-1776967200-1776970800@stphilipfranklin.com
SUMMARY:St. Philip Parish - Ultreya
DESCRIPTION:Group: Parish Activities\nCampus: Saint Philip – Franklin
URL:https://stphilipfranklin.com/event/st-philip-parish-ultreya-2/
LOCATION:Activity Center (Saint Philip – Franklin)\, 113 2nd Ave S\, Franklin\, TN\, United States
END:VEVENT
BEGIN:VEVENT
DTSTART;TZID=America/Chicago:20260423T183000
DTEND;TZID=America/Chicago:20260423T200000
DTSTAMP:20260423T054232
CREATED:20260303T014028Z
LAST-MODIFIED:20260303T014028Z
UID:182738-1776969000-1776974400@stphilipfranklin.com
SUMMARY:Bible Timeline Study
DESCRIPTION:Group: Parish Activities\nCampus: Saint Philip – Franklin \nLearn and understand your Catholic Faith as never before by studying the Old Testament! This is a 24 week study\, by Zoom every Thursday night 6:30-8:00pm. The Theologians at Ascension Press have refreshed the course to include videos of the locations in the Holy Land where the events we study occurred. Contact Charlene Kimmel for more information on the study at Faithsharing@StPhilipMinistries\,com 
URL:https://stphilipfranklin.com/event/bible-timeline-study-7/
LOCATION:TN
END:VEVENT
BEGIN:VEVENT
DTSTART;TZID=America/Chicago:20260423T190000
DTEND;TZID=America/Chicago:20260423T210000
DTSTAMP:20260423T054232
CREATED:20260303T014028Z
LAST-MODIFIED:20260303T014028Z
UID:182737-1776970800-1776978000@stphilipfranklin.com
SUMMARY:Renewal Choir
DESCRIPTION:Group: Parish Activities\nCampus: Saint Philip – Franklin
URL:https://stphilipfranklin.com/event/renewal-choir-7/
LOCATION:Parish Conference Room (Saint Philip – Franklin)\, 113 2nd Ave S\, Franklin\, TN\, United States
END:VEVENT
END:VCALENDAR